BEGIN:VCALENDAR
VERSION:2.0
PRODID:-//Schwerte Stadtmarketing - ECPv6.15.20//NONSGML v1.0//EN
CALSCALE:GREGORIAN
METHOD:PUBLISH
X-WR-CALNAME:Schwerte Stadtmarketing
X-ORIGINAL-URL:https://www.schwerte-stadtmarketing.de
X-WR-CALDESC:Veranstaltungen für Schwerte Stadtmarketing
REFRESH-INTERVAL;VALUE=DURATION:PT1H
X-Robots-Tag:noindex
X-PUBLISHED-TTL:PT1H
BEGIN:VTIMEZONE
TZID:Europe/Berlin
BEGIN:DAYLIGHT
TZOFFSETFROM:+0100
TZOFFSETTO:+0200
TZNAME:CEST
DTSTART:20250330T010000
END:DAYLIGHT
BEGIN:STANDARD
TZOFFSETFROM:+0200
TZOFFSETTO:+0100
TZNAME:CET
DTSTART:20251026T010000
END:STANDARD
BEGIN:DAYLIGHT
TZOFFSETFROM:+0100
TZOFFSETTO:+0200
TZNAME:CEST
DTSTART:20260329T010000
END:DAYLIGHT
BEGIN:STANDARD
TZOFFSETFROM:+0200
TZOFFSETTO:+0100
TZNAME:CET
DTSTART:20261025T010000
END:STANDARD
BEGIN:DAYLIGHT
TZOFFSETFROM:+0100
TZOFFSETTO:+0200
TZNAME:CEST
DTSTART:20270328T010000
END:DAYLIGHT
BEGIN:STANDARD
TZOFFSETFROM:+0200
TZOFFSETTO:+0100
TZNAME:CET
DTSTART:20271031T010000
END:STANDARD
END:VTIMEZONE
BEGIN:VEVENT
DTSTART;TZID=Europe/Berlin:20260425T100054
DTEND;TZID=Europe/Berlin:20260425T140054
DTSTAMP:20260424T144736
CREATED:20260424T121546Z
LAST-MODIFIED:20260424T121546Z
UID:292342-1777111254-1777125654@www.schwerte-stadtmarketing.de
SUMMARY:Wer...wie...was...wieso...weshalb...warum...Wer nicht fragt bleibt dumm!
DESCRIPTION:Tipps und Tricks zum Klimaschutz im Alltag auf dem Wuckenhof \nTipps und Tricks für den Alltag von UNS für EUCH. An diesem Tag werden persönliche Erfahrungen zu einem klimafreundlichen Leben weitergereicht. Dumme Fragen gibt es nicht und es können Löcher in Bäuche gefragt werden zu: Elektroauto\, Wärmepumpe\, Unverpacktes\, Spartipps\, Gemüse aus der Solawi\, Vegane Ernährung und viele mehr. Auch die Kinder kommen nicht zu kurz und können für eine klimafreundliche Zukunft basteln. Mit dabei sind die Verbraucherzentrale und das Klimamanagement der Stadt Schwerte\, die zu weiteren Themen beraten.
URL:https://www.schwerte-stadtmarketing.de/veranstaltung/wer-wie-was-wieso-weshalb-warum-wer-nicht-fragt-bleibt-dumm/
LOCATION:Schwerte\, Wuckenhof\, Schwerte\, NRW\, 58239\, Deutschland
CATEGORIES:Sonstiges
ATTACH;FMTTYPE=image/jpeg:https://www.schwerte-stadtmarketing.de/wp-content/uploads/9853_3bd498f0_2e31_4b12_863d_54403b246965.jpg
END:VEVENT
END:VCALENDAR