BEGIN:VCALENDAR
VERSION:2.0
PRODID:-//Schwerte Stadtmarketing - ECPv6.15.20//NONSGML v1.0//EN
CALSCALE:GREGORIAN
METHOD:PUBLISH
X-ORIGINAL-URL:https://www.schwerte-stadtmarketing.de
X-WR-CALDESC:Veranstaltungen für Schwerte Stadtmarketing
REFRESH-INTERVAL;VALUE=DURATION:PT1H
X-Robots-Tag:noindex
X-PUBLISHED-TTL:PT1H
BEGIN:VTIMEZONE
TZID:Europe/Berlin
BEGIN:DAYLIGHT
TZOFFSETFROM:+0100
TZOFFSETTO:+0200
TZNAME:CEST
DTSTART:20240331T010000
END:DAYLIGHT
BEGIN:STANDARD
TZOFFSETFROM:+0200
TZOFFSETTO:+0100
TZNAME:CET
DTSTART:20241027T010000
END:STANDARD
BEGIN:DAYLIGHT
TZOFFSETFROM:+0100
TZOFFSETTO:+0200
TZNAME:CEST
DTSTART:20250330T010000
END:DAYLIGHT
BEGIN:STANDARD
TZOFFSETFROM:+0200
TZOFFSETTO:+0100
TZNAME:CET
DTSTART:20251026T010000
END:STANDARD
BEGIN:DAYLIGHT
TZOFFSETFROM:+0100
TZOFFSETTO:+0200
TZNAME:CEST
DTSTART:20260329T010000
END:DAYLIGHT
BEGIN:STANDARD
TZOFFSETFROM:+0200
TZOFFSETTO:+0100
TZNAME:CET
DTSTART:20261025T010000
END:STANDARD
END:VTIMEZONE
BEGIN:VEVENT
DTSTART;TZID=Europe/Berlin:20251130T160030
DTEND;TZID=Europe/Berlin:20251130T183030
DTSTAMP:20260419T145239
CREATED:20260419T121310Z
LAST-MODIFIED:20260419T121310Z
UID:284703-1764518430-1764527430@www.schwerte-stadtmarketing.de
SUMMARY:10 Jahre Sounding People
DESCRIPTION:Jubiläumskonzert \nEnergiegeladener Gesang\, ansteckende Freude an der Musik und Arrangements\, die nach vorne gehen – das sind Sounding People aus Dortmund. \nDie Sänger*innen und ihr Beatboxer bringen nur mit ihren Stimmen aktuelle Popsongs und bekannte Klassiker auf die Bühne. Hier ist alles mundgemacht\, eben a cappella.  \nNun lädt der Chor mit Unterstützung der Schwerter Chorstiftung zu seinem Jubiläumskonzert ein!  \nDabei verschmelzen Nostalgie und neue Klänge zu einem einzigartigen Konzerterlebnis im besonderen Flair der Rohrmeisterei. Hier erwartet das Publikum nicht nur Sounding People Klassiker der ersten Stunde\, sondern auch bisher ungehörte Neuheiten. Das Repertoire reicht von Gute-Laune-Hits über tanzbare Beats bis zum emotionalen Herzschmerz-Song. \nErmäßigung: Schüler/Studenten ab 7 bis 28 Jahren\, Kinder bis 6 Jahren kostenfrei \nTickets: https://rausgegangen.de/events/jubilaumskonzert-2025-0/
URL:https://www.schwerte-stadtmarketing.de/veranstaltung/10-jahre-sounding-people/
LOCATION:Rohrmeisterei Schwerte\, Ruhrstraße 20\, Schwerte\, NRW\, 58239\, Deutschland
CATEGORIES:Musik / Konzert / Tanz
ATTACH;FMTTYPE=image/jpeg:https://www.schwerte-stadtmarketing.de/wp-content/uploads/9853_afba0111_7ff6_7029_4867_1ca3afdad47e.jpg
END:VEVENT
END:VCALENDAR