BEGIN:VCALENDAR
VERSION:2.0
PRODID:-//Schwerte Stadtmarketing - ECPv6.15.20//NONSGML v1.0//EN
CALSCALE:GREGORIAN
METHOD:PUBLISH
X-ORIGINAL-URL:https://www.schwerte-stadtmarketing.de
X-WR-CALDESC:Veranstaltungen für Schwerte Stadtmarketing
REFRESH-INTERVAL;VALUE=DURATION:PT1H
X-Robots-Tag:noindex
X-PUBLISHED-TTL:PT1H
BEGIN:VTIMEZONE
TZID:Europe/Berlin
BEGIN:DAYLIGHT
TZOFFSETFROM:+0100
TZOFFSETTO:+0200
TZNAME:CEST
DTSTART:20240331T010000
END:DAYLIGHT
BEGIN:STANDARD
TZOFFSETFROM:+0200
TZOFFSETTO:+0100
TZNAME:CET
DTSTART:20241027T010000
END:STANDARD
BEGIN:DAYLIGHT
TZOFFSETFROM:+0100
TZOFFSETTO:+0200
TZNAME:CEST
DTSTART:20250330T010000
END:DAYLIGHT
BEGIN:STANDARD
TZOFFSETFROM:+0200
TZOFFSETTO:+0100
TZNAME:CET
DTSTART:20251026T010000
END:STANDARD
BEGIN:DAYLIGHT
TZOFFSETFROM:+0100
TZOFFSETTO:+0200
TZNAME:CEST
DTSTART:20260329T010000
END:DAYLIGHT
BEGIN:STANDARD
TZOFFSETFROM:+0200
TZOFFSETTO:+0100
TZNAME:CET
DTSTART:20261025T010000
END:STANDARD
END:VTIMEZONE
BEGIN:VEVENT
DTSTART;TZID=Europe/Berlin:20251211T160004
DTEND;TZID=Europe/Berlin:20251211T190004
DTSTAMP:20260421T153806
CREATED:20260421T121347Z
LAST-MODIFIED:20260421T121347Z
UID:285693-1765468804-1765479604@www.schwerte-stadtmarketing.de
SUMMARY:Nikolaus Laternen Umzug
DESCRIPTION:Wir laden alle Kinder mit Geschwistern\, Eltern\, Grosseltern\, Tanten und Onkeln ein.\nWie auch im vergangenen Jahr\, möchten wir mit Laternen und Taschenlampen ausgestattet\, einen Umzug durch Ergstes Wiesen und Felder machen.\nTreffpunkt ist: 11.12.2025 – 16:00 Uhr\nWolfsplatz\nNeue Ergster Mitte\nKirchstraße 11\, 58239 Schwerte\nNach dem Umzug gehen wir in die Turnhalle Neue Ergster Mitte.\nDort freuen wir uns auf unseren fröhlichen Geschichtenerzähler und\nden Nikolaus.\nFür Getränke und Speisen ist gesorgt!\nBitte meldet euch mit dem unteren Abschnitt der Einladung bis zum 30.11.2025 an.\nDie Anmeldung könnt ihr bei unseren Übungsleitern in der Geschäftsstelle\, Kirchstraße 11 oder per Mail “sge@sge-ergste.de” abgeben.\nEinladung zum Download auf www.sge-ergste\,de
URL:https://www.schwerte-stadtmarketing.de/veranstaltung/nikolaus-laternen-umzug/
LOCATION:Neue Ergster Mitte\, Kirchstraße 11\, Schwerte\, NRW\, 58239\, Deutschland
CATEGORIES:Familie & Kinder
ATTACH;FMTTYPE=image/png:https://www.schwerte-stadtmarketing.de/wp-content/uploads/9853_ad392fe1_517d_f8e8_043e_f676a25e5558.png
END:VEVENT
END:VCALENDAR