BEGIN:VCALENDAR
VERSION:2.0
PRODID:-//Schwerte Stadtmarketing - ECPv6.15.20//NONSGML v1.0//EN
CALSCALE:GREGORIAN
METHOD:PUBLISH
X-WR-CALNAME:Schwerte Stadtmarketing
X-ORIGINAL-URL:https://www.schwerte-stadtmarketing.de
X-WR-CALDESC:Veranstaltungen für Schwerte Stadtmarketing
REFRESH-INTERVAL;VALUE=DURATION:PT1H
X-Robots-Tag:noindex
X-PUBLISHED-TTL:PT1H
BEGIN:VTIMEZONE
TZID:Europe/Berlin
BEGIN:DAYLIGHT
TZOFFSETFROM:+0100
TZOFFSETTO:+0200
TZNAME:CEST
DTSTART:20250330T010000
END:DAYLIGHT
BEGIN:STANDARD
TZOFFSETFROM:+0200
TZOFFSETTO:+0100
TZNAME:CET
DTSTART:20251026T010000
END:STANDARD
BEGIN:DAYLIGHT
TZOFFSETFROM:+0100
TZOFFSETTO:+0200
TZNAME:CEST
DTSTART:20260329T010000
END:DAYLIGHT
BEGIN:STANDARD
TZOFFSETFROM:+0200
TZOFFSETTO:+0100
TZNAME:CET
DTSTART:20261025T010000
END:STANDARD
BEGIN:DAYLIGHT
TZOFFSETFROM:+0100
TZOFFSETTO:+0200
TZNAME:CEST
DTSTART:20270328T010000
END:DAYLIGHT
BEGIN:STANDARD
TZOFFSETFROM:+0200
TZOFFSETTO:+0100
TZNAME:CET
DTSTART:20271031T010000
END:STANDARD
END:VTIMEZONE
BEGIN:VEVENT
DTSTART;TZID=Europe/Berlin:20260505T170053
DTEND;TZID=Europe/Berlin:20260505T190053
DTSTAMP:20260424T184416
CREATED:20260424T121634Z
LAST-MODIFIED:20260424T121634Z
UID:293927-1778000453-1778007653@www.schwerte-stadtmarketing.de
SUMMARY:Gartenwettbewerb Stadt Schwerte 2026/2027: Blühende Vielfalt für ein besseres Stadtklima
DESCRIPTION:Ein Projekt für mehr Biodiversität und Klimaanpassung vor der eigenen Haustür \nPrivatgärten sind wertvolle Lebensräume und verbessern das Mikroklima. Gemeinsam möchten wir die lokale Artenvielfalt stärken und die Gärten der Stadt fit für die Zukunft machen. Passend zur IGA 2027 ruft die Stadt Schwerte daher alle Gartenfreund*innen und Hobbygärtner*innen zum großen Gartenwettbewerb auf: Eingereicht werden können sowohl bereits vorbildhaft gestaltete Gärten als auch solche\, die im Zeitraum von Mai 2026 bis Juni 2027 entsprechend naturnah\, klimaangepasst und artenfreundlich umgestaltet oder weiterentwickelt werden. \nAuftaktveranstaltung am 05. Mai 2026 im Klimapavillon\, 17-19 Uhr\nDen feierlichen Startschuss bildet eine Auftaktveranstaltung am Dienstag\, den 05. Mai 2026 im Klimapavillon des Klimagartens Schwerte. In Impulsvorträgen gibt zum einen Frau Schulte vom Naturgarten e.V. inspirierende Anregungen für die Gestaltung biodiversitätsfördernder und klimasensibler Gärten. Zum anderen gibt Frau Faas von der IGA Metropole Ruhr spannende Einblicke in die Projekte rund um die IGA 2027. Außerdem werden die Teilnahmebedingungen sowie der Ablauf des Wettbewerbs vorgestellt.\nDie Veranstaltung ist öffentlich und auch Kurzentschlossene sind herzlich willkommen. Für eine bessere Planung wird um eine vorherige Anmeldung bis zum 30. April unter den untenstehenden Kontaktinformationen gebeten. \nZiel des Wettbewerbs ist es\, besonders vorbildhafte Gärten wertzuschätzen und weitere Gärten in blühende Lebensräume für Insekten\, Vögel und andere Tiere zu verwandeln\, die auch den zukünftigen klimatischen Veränderungen standhalten – als wichtigen Beitrag zur städtischen Klimaanpassung und zur Förderung der lokalen Artenvielfalt. \nEinsendeschluss Ende Juni 2027\, Siegerehrung im Herbst 2027\nNach einem Jahr voller kreativer und nachhaltiger Gartenarbeit wird im Herbst 2027 die große Siegerehrung stattfinden. Eine unabhängige Jury aus Fachleuten kürt diejenigen Gärten\, die sich in besonderem Maße durch ökologische und klimafeste Gestaltung auszeichnen. Einen Sonderpreis gibt aus außerdem für den besten Vorher-Nachher Vergleich. Zu Gewinnen gibt es Gutscheine der Werbegemeinschaft Schwerte in Höhe von bis zu 300€\, Tageskarten für einen IGA-Zukunftsgarten sowie eine dekorative Wildbienen-Nisthilfe\, welche die naturnahen Rückzugsorte abrundet. \nWeitere Informationen zum Wettbewerb werden bei der Auftaktveranstaltung bekanntgegeben und anschließend auf der städtischen Webseite veröffentlicht. \nKontakt für Rückfragen und Anmeldung zur Auftaktveranstaltung:\nStadt Schwerte – Klimaanpassungsmanagement\nMelanie Martin\nE-Mail: melanie.martin@stadt-schwerte.de\nTel.: 02304 / 104-603
URL:https://www.schwerte-stadtmarketing.de/veranstaltung/gartenwettbewerb-stadt-schwerte-2026-2027-bluehende-vielfalt-fuer-ein-besseres-stadtklima/
LOCATION:Klimagarten\, Ioanninaplatz 1\, Schwerte\, NRW\, 58239\, Deutschland
CATEGORIES:Infoveranstaltung / Vortrag
ATTACH;FMTTYPE=image/jpeg:https://www.schwerte-stadtmarketing.de/wp-content/uploads/9853_f102234c_7f9a_4eee_aeb3_114065e138cc.jpg
END:VEVENT
END:VCALENDAR