BEGIN:VCALENDAR
VERSION:2.0
PRODID:-//Schwerte Stadtmarketing - ECPv6.15.20//NONSGML v1.0//EN
CALSCALE:GREGORIAN
METHOD:PUBLISH
X-WR-CALNAME:Schwerte Stadtmarketing
X-ORIGINAL-URL:https://www.schwerte-stadtmarketing.de
X-WR-CALDESC:Veranstaltungen für Schwerte Stadtmarketing
REFRESH-INTERVAL;VALUE=DURATION:PT1H
X-Robots-Tag:noindex
X-PUBLISHED-TTL:PT1H
BEGIN:VTIMEZONE
TZID:Europe/Berlin
BEGIN:DAYLIGHT
TZOFFSETFROM:+0100
TZOFFSETTO:+0200
TZNAME:CEST
DTSTART:20240331T010000
END:DAYLIGHT
BEGIN:STANDARD
TZOFFSETFROM:+0200
TZOFFSETTO:+0100
TZNAME:CET
DTSTART:20241027T010000
END:STANDARD
BEGIN:DAYLIGHT
TZOFFSETFROM:+0100
TZOFFSETTO:+0200
TZNAME:CEST
DTSTART:20250330T010000
END:DAYLIGHT
BEGIN:STANDARD
TZOFFSETFROM:+0200
TZOFFSETTO:+0100
TZNAME:CET
DTSTART:20251026T010000
END:STANDARD
BEGIN:DAYLIGHT
TZOFFSETFROM:+0100
TZOFFSETTO:+0200
TZNAME:CEST
DTSTART:20260329T010000
END:DAYLIGHT
BEGIN:STANDARD
TZOFFSETFROM:+0200
TZOFFSETTO:+0100
TZNAME:CET
DTSTART:20261025T010000
END:STANDARD
END:VTIMEZONE
BEGIN:VEVENT
DTSTART;TZID=Europe/Berlin:20250628T150038
DTEND;TZID=Europe/Berlin:20250629T150038
DTSTAMP:20260419T145315
CREATED:20260419T120632Z
LAST-MODIFIED:20260419T120632Z
UID:260698-1751122838-1751209238@www.schwerte-stadtmarketing.de
SUMMARY:24-Stunden-Schwimmen
DESCRIPTION:Wassersport mit der DLRG Ergste-Villigst-Hennen rund um die Uhr für Mannschaften und Einzelschwimmer. Übernachten im Zeltlager auf den Elsebad-Wiesen (nur für Teilnehmer) – allgemeiner Schwimmbetrieb eingeschränkt möglich
URL:https://www.schwerte-stadtmarketing.de/veranstaltung/24-stunden-schwimmen/
LOCATION:Elsebad\, Am Winkelstück 113\, Schwerte\, NRW\, 58239\, Deutschland
CATEGORIES:Sport / Freizeit
ATTACH;FMTTYPE=image/jpeg:https://www.schwerte-stadtmarketing.de/wp-content/uploads/9853_f86349e6_d642_6318_39ef_c4abce9c7630.jpg
END:VEVENT
END:VCALENDAR