BEGIN:VCALENDAR
VERSION:2.0
PRODID:-//Schwerte Stadtmarketing - ECPv6.15.20//NONSGML v1.0//EN
CALSCALE:GREGORIAN
METHOD:PUBLISH
X-ORIGINAL-URL:https://www.schwerte-stadtmarketing.de
X-WR-CALDESC:Veranstaltungen für Schwerte Stadtmarketing
REFRESH-INTERVAL;VALUE=DURATION:PT1H
X-Robots-Tag:noindex
X-PUBLISHED-TTL:PT1H
BEGIN:VTIMEZONE
TZID:Europe/Berlin
BEGIN:DAYLIGHT
TZOFFSETFROM:+0100
TZOFFSETTO:+0200
TZNAME:CEST
DTSTART:20250330T010000
END:DAYLIGHT
BEGIN:STANDARD
TZOFFSETFROM:+0200
TZOFFSETTO:+0100
TZNAME:CET
DTSTART:20251026T010000
END:STANDARD
BEGIN:DAYLIGHT
TZOFFSETFROM:+0100
TZOFFSETTO:+0200
TZNAME:CEST
DTSTART:20260329T010000
END:DAYLIGHT
BEGIN:STANDARD
TZOFFSETFROM:+0200
TZOFFSETTO:+0100
TZNAME:CET
DTSTART:20261025T010000
END:STANDARD
BEGIN:DAYLIGHT
TZOFFSETFROM:+0100
TZOFFSETTO:+0200
TZNAME:CEST
DTSTART:20270328T010000
END:DAYLIGHT
BEGIN:STANDARD
TZOFFSETFROM:+0200
TZOFFSETTO:+0100
TZNAME:CET
DTSTART:20271031T010000
END:STANDARD
END:VTIMEZONE
BEGIN:VEVENT
DTSTART;TZID=Europe/Berlin:20260502T173012
DTEND;TZID=Europe/Berlin:20260502T181512
DTSTAMP:20260424T124805
CREATED:20260424T001701Z
LAST-MODIFIED:20260424T001701Z
UID:293716-1777743012-1777745712@www.schwerte-stadtmarketing.de
SUMMARY:Fahrradsegnung in St. Antonius
DESCRIPTION:bei Gott ankommen \nNäheres hierzu auf www.schwerterkirchen.de
URL:https://www.schwerte-stadtmarketing.de/veranstaltung/fahrradsegnung-in-st-antonius/
LOCATION:Geisecke\, Am Brauck 7\, Schwerte\, NRW\, 58239\, Deutschland
CATEGORIES:Kirche & Glaube
END:VEVENT
END:VCALENDAR