BEGIN:VCALENDAR
VERSION:2.0
PRODID:-//Schwerte Stadtmarketing - ECPv6.15.20//NONSGML v1.0//EN
CALSCALE:GREGORIAN
METHOD:PUBLISH
X-WR-CALNAME:Schwerte Stadtmarketing
X-ORIGINAL-URL:https://www.schwerte-stadtmarketing.de
X-WR-CALDESC:Veranstaltungen für Schwerte Stadtmarketing
REFRESH-INTERVAL;VALUE=DURATION:PT1H
X-Robots-Tag:noindex
X-PUBLISHED-TTL:PT1H
BEGIN:VTIMEZONE
TZID:Europe/Berlin
BEGIN:DAYLIGHT
TZOFFSETFROM:+0100
TZOFFSETTO:+0200
TZNAME:CEST
DTSTART:20250330T010000
END:DAYLIGHT
BEGIN:STANDARD
TZOFFSETFROM:+0200
TZOFFSETTO:+0100
TZNAME:CET
DTSTART:20251026T010000
END:STANDARD
BEGIN:DAYLIGHT
TZOFFSETFROM:+0100
TZOFFSETTO:+0200
TZNAME:CEST
DTSTART:20260329T010000
END:DAYLIGHT
BEGIN:STANDARD
TZOFFSETFROM:+0200
TZOFFSETTO:+0100
TZNAME:CET
DTSTART:20261025T010000
END:STANDARD
BEGIN:DAYLIGHT
TZOFFSETFROM:+0100
TZOFFSETTO:+0200
TZNAME:CEST
DTSTART:20270328T010000
END:DAYLIGHT
BEGIN:STANDARD
TZOFFSETFROM:+0200
TZOFFSETTO:+0100
TZNAME:CET
DTSTART:20271031T010000
END:STANDARD
END:VTIMEZONE
BEGIN:VEVENT
DTSTART;TZID=Europe/Berlin:20260502T193054
DTEND;TZID=Europe/Berlin:20260502T210054
DTSTAMP:20260424T141239
CREATED:20260424T001643Z
LAST-MODIFIED:20260424T001643Z
UID:292554-1777750254-1777755654@www.schwerte-stadtmarketing.de
SUMMARY:Zurück zum Happy End
DESCRIPTION:Es fängt so an\, wie andere Komödien enden – mit einem langen glücklichen Kuss zwischen Tina und Manfred\, die unmittelbar vor ihr standesamtlichen Trauung stehen. Das Happy End ist also gelaufen. Glücklich erinnern sie sich an ihre schönsten gemeinsamen Augenblicke und erzählen dem Publikum\, wie sie diese Momente erlebt haben. Aber dabei stellt sich heraus\, dass Tina viele Dinge ganz anders in Erinnerung hat als Manfred – wo Manfred sich als strahlender Held und vollkommener Mann im Gedächtnis hat\, sah ihn Tina als liebenswerten Trottel. Aus den immer stärker werdenden Irritationen wird die Gewissheit: Nein\, sie passen unmöglich zusammen. Da muss Marianne\, Manfreds rigorose\, aber auch sehr lebenskluge Mutter\, eingreifen und beide auf den wirklichen gemeinsamen Weg bringen …
URL:https://www.schwerte-stadtmarketing.de/veranstaltung/zurueck-zum-happy-end-3/
LOCATION:Schwerte\, Ruhrstraße 13\, Schwerte\, NRW\, 58239\, Deutschland
CATEGORIES:Theater / Comedy / Kabarett
ATTACH;FMTTYPE=image/jpeg:https://www.schwerte-stadtmarketing.de/wp-content/uploads/9853_11223d61_ef31_4f79_8a5e_06ff8adf63b3.jpg
END:VEVENT
END:VCALENDAR