BEGIN:VCALENDAR
VERSION:2.0
PRODID:-//Schwerte Stadtmarketing - ECPv6.15.20//NONSGML v1.0//EN
CALSCALE:GREGORIAN
METHOD:PUBLISH
X-WR-CALNAME:Schwerte Stadtmarketing
X-ORIGINAL-URL:https://www.schwerte-stadtmarketing.de
X-WR-CALDESC:Veranstaltungen für Schwerte Stadtmarketing
REFRESH-INTERVAL;VALUE=DURATION:PT1H
X-Robots-Tag:noindex
X-PUBLISHED-TTL:PT1H
BEGIN:VTIMEZONE
TZID:Europe/Berlin
BEGIN:DAYLIGHT
TZOFFSETFROM:+0100
TZOFFSETTO:+0200
TZNAME:CEST
DTSTART:20250330T010000
END:DAYLIGHT
BEGIN:STANDARD
TZOFFSETFROM:+0200
TZOFFSETTO:+0100
TZNAME:CET
DTSTART:20251026T010000
END:STANDARD
BEGIN:DAYLIGHT
TZOFFSETFROM:+0100
TZOFFSETTO:+0200
TZNAME:CEST
DTSTART:20260329T010000
END:DAYLIGHT
BEGIN:STANDARD
TZOFFSETFROM:+0200
TZOFFSETTO:+0100
TZNAME:CET
DTSTART:20261025T010000
END:STANDARD
BEGIN:DAYLIGHT
TZOFFSETFROM:+0100
TZOFFSETTO:+0200
TZNAME:CEST
DTSTART:20270328T010000
END:DAYLIGHT
BEGIN:STANDARD
TZOFFSETFROM:+0200
TZOFFSETTO:+0100
TZNAME:CET
DTSTART:20271031T010000
END:STANDARD
END:VTIMEZONE
BEGIN:VEVENT
DTSTART;TZID=Europe/Berlin:20260520T143055
DTEND;TZID=Europe/Berlin:20260520T173055
DTSTAMP:20260422T134257
CREATED:20260422T001229Z
LAST-MODIFIED:20260422T001229Z
UID:281784-1779287455-1779298255@www.schwerte-stadtmarketing.de
SUMMARY:Generationencafé Geisecke
DESCRIPTION:In der Begegnungsstätte des Geisecker SV \nGenerationencafé Geisecke in der Begegnungsstätte des Geisecker SV \nJeden 3. Mittwoch im Monat 14.30 -17.30 Uhr\nBuschkampweg 41\, 58239 Schwerte\nFür Alt und Jung!\nKommen Sie vorbei und genießen Sie Kaffee und Kuchen zu erschwinglichen Preisen in geselliger Runde.
URL:https://www.schwerte-stadtmarketing.de/veranstaltung/generationencafe-geisecke/
LOCATION:Geisecke\, Buschkampweg 41\, Schwerte\, NRW\, 58239\, Deutschland
CATEGORIES:Familie & Kinder
END:VEVENT
END:VCALENDAR