BEGIN:VCALENDAR
VERSION:2.0
PRODID:-//Schwerte Stadtmarketing - ECPv6.15.20//NONSGML v1.0//EN
CALSCALE:GREGORIAN
METHOD:PUBLISH
X-ORIGINAL-URL:https://www.schwerte-stadtmarketing.de
X-WR-CALDESC:Veranstaltungen für Schwerte Stadtmarketing
REFRESH-INTERVAL;VALUE=DURATION:PT1H
X-Robots-Tag:noindex
X-PUBLISHED-TTL:PT1H
BEGIN:VTIMEZONE
TZID:Europe/Berlin
BEGIN:DAYLIGHT
TZOFFSETFROM:+0100
TZOFFSETTO:+0200
TZNAME:CEST
DTSTART:20240331T010000
END:DAYLIGHT
BEGIN:STANDARD
TZOFFSETFROM:+0200
TZOFFSETTO:+0100
TZNAME:CET
DTSTART:20241027T010000
END:STANDARD
BEGIN:DAYLIGHT
TZOFFSETFROM:+0100
TZOFFSETTO:+0200
TZNAME:CEST
DTSTART:20250330T010000
END:DAYLIGHT
BEGIN:STANDARD
TZOFFSETFROM:+0200
TZOFFSETTO:+0100
TZNAME:CET
DTSTART:20251026T010000
END:STANDARD
BEGIN:DAYLIGHT
TZOFFSETFROM:+0100
TZOFFSETTO:+0200
TZNAME:CEST
DTSTART:20260329T010000
END:DAYLIGHT
BEGIN:STANDARD
TZOFFSETFROM:+0200
TZOFFSETTO:+0100
TZNAME:CET
DTSTART:20261025T010000
END:STANDARD
END:VTIMEZONE
BEGIN:VEVENT
DTSTART;TZID=Europe/Berlin:20251230T120035
DTEND;TZID=Europe/Berlin:20251231T150035
DTSTAMP:20260421T123444
CREATED:20260421T001045Z
LAST-MODIFIED:20260421T001045Z
UID:278693-1767096035-1767193235@www.schwerte-stadtmarketing.de
SUMMARY:Schmieden zwischen den Jahren
DESCRIPTION:Workshop für Familien und Freunde
URL:https://www.schwerte-stadtmarketing.de/veranstaltung/schmieden-zwischen-den-jahren/
LOCATION:Schwerte\, Am Winkelstück 113\, Schwerte\, NRW\, 58239\, Deutschland
CATEGORIES:Konferenz / Workshop / Seminar
END:VEVENT
END:VCALENDAR