BEGIN:VCALENDAR
VERSION:2.0
PRODID:-//Schwerte Stadtmarketing - ECPv6.15.20//NONSGML v1.0//EN
CALSCALE:GREGORIAN
METHOD:PUBLISH
X-WR-CALNAME:Schwerte Stadtmarketing
X-ORIGINAL-URL:https://www.schwerte-stadtmarketing.de
X-WR-CALDESC:Veranstaltungen für Schwerte Stadtmarketing
REFRESH-INTERVAL;VALUE=DURATION:PT1H
X-Robots-Tag:noindex
X-PUBLISHED-TTL:PT1H
BEGIN:VTIMEZONE
TZID:Europe/Berlin
BEGIN:DAYLIGHT
TZOFFSETFROM:+0100
TZOFFSETTO:+0200
TZNAME:CEST
DTSTART:20230326T010000
END:DAYLIGHT
BEGIN:STANDARD
TZOFFSETFROM:+0200
TZOFFSETTO:+0100
TZNAME:CET
DTSTART:20231029T010000
END:STANDARD
BEGIN:DAYLIGHT
TZOFFSETFROM:+0100
TZOFFSETTO:+0200
TZNAME:CEST
DTSTART:20240331T010000
END:DAYLIGHT
BEGIN:STANDARD
TZOFFSETFROM:+0200
TZOFFSETTO:+0100
TZNAME:CET
DTSTART:20241027T010000
END:STANDARD
BEGIN:DAYLIGHT
TZOFFSETFROM:+0100
TZOFFSETTO:+0200
TZNAME:CEST
DTSTART:20250330T010000
END:DAYLIGHT
BEGIN:STANDARD
TZOFFSETFROM:+0200
TZOFFSETTO:+0100
TZNAME:CET
DTSTART:20251026T010000
END:STANDARD
END:VTIMEZONE
BEGIN:VEVENT
DTSTART;TZID=Europe/Berlin:20240622T110044
DTEND;TZID=Europe/Berlin:20240622T180044
DTSTAMP:20260424T112930
CREATED:20260424T000841Z
LAST-MODIFIED:20260424T000841Z
UID:265297-1719054044-1719079244@www.schwerte-stadtmarketing.de
SUMMARY:Taanteatro Ecoperformance Workshop • Ecoperformance Experience
DESCRIPTION:Die Ecoperformance Film Selection umfasst die Vorführung ausgewählter Kurzfilme \nWorkshop Taanteatro oder choreographisches Theater der Spannungen \n  Taanteatro Ecoperformance Workshop • Ecoperformance Experience \n ️ 70€ (ermäßigt) / ab 90€  / ab 150€ (Unterstützer) \nDer Taanteatro Ecoperformance Workshop führt in Begriff und Praxis der Ecoperformance (Buch\, Journal\, Artikel) ein und wendet sich an Künstler:innen\, die eine Überwindung allzu anthropozentrischer Darstellungspraktiken anstreben. Im methodischen Rahmen des Choreografischen Spannungstheaters (Taanteatro) führen Baiocchi und Pannek in psychophysische Dynamiken performativer Wahrnehmung\, Präsenz und Interaktion ein und vermitteln Taanteatro-Konzepte wie Spannung\, Ökoporalität und Schizopräsenz. Der Workshop schließt mit einer ökoperformativen Improvisation ab. \nTeil der\nECOPERFORMANCE EXPERIENCE\nMit Maura Baiocchi und Wolfgang Pannek\nTaanteatro Companhia\, São Paulo\, Brasilien \nIm Rahmen des dezentralen IV International Ecoperformance Film Festivals (30. Mai bis 30. Juni 2024 – in Brasilien\, Argentinien\, USA\, Australien\, Deutschland und Rumänien) \nProgramm: \n⏰ 21. Juni – Freitag – 20:00 bis 22:00 Uhr\n  Ecoperformance Film Selection \n⏰ 22. Juni – Samstag – 11:00 bis 18:00 Uhr\n  Taanteatro Ecoperformance Workshop \n⏰ 22. Juni – Samstag – 20:00 Uhr\n  MONDO CHÔRO • Jazz\, Folk\, Bossa • Open Air \nDas Festival versteht sich als künstlerische Antwort auf die umweltpolitischen Herausforderungen des 21. Jahrhunderts und zeigt Filme interdisziplinärer Künstler\, die sich mit den Spannungen zwischen Umwelt\, Körper und Herkunft befassen. \nDie Ecoperformance Film Selection umfasst die Vorführung ausgewählter Kurzfilme asiatischer\, afrikanischer\, amerikanischer\, australischer und europäischer Künstler an der Schnittstelle von Kino\, darstellender Kunst und Ökologie. Im Anschluss an die Filmvorführung besteht die Möglichkeit zu einem Gespräch mit den Festivalleitern. \nDer Taanteatro Ecoperformance Workshop führt in Begriff und Praxis der Ecoperformance (Buch\, Journal\, Artikel) ein und wendet sich an Künstler:innen\, die eine Überwindung allzu anthropozentrischer Darstellungspraktiken anstreben. Im methodischen Rahmen des Choreografischen Spannungstheaters (Taanteatro) führen Baiocchi und Pannek in psychophysische Dynamiken performativer Wahrnehmung\, Präsenz und Interaktion ein und vermitteln Taanteatro-Konzepte wie Spannung\, Ökoporalität und Schizopräsenz. Der Workshop schließt mit einer ökoperformativen Improvisation ab. \n❦ \nMAURA BAIOCCHI \nDie brasilianische Choreografin\, Tänzerin\, Regisseurin und Schauspielerin Maura Baiocchi ist die in São Paulo ansässige Gründungsdirektorin der Taanteatro Company (1991) und Schöpferin des Taanteatro oder teatro coreográfico de tensões* (choreografisches Spannungstheater). \nSie ist Autorin mehrerer Bücher (neben Wolfgang Pannek) über ihren Ansatz der darstellenden Künste\, darunter Choreographic Theatre of Tensions: Forces & Forms (2020)\, und Gründungsdirektorin des International Ecoperformance Filmfestival. \nBaiocchis Karriere begann in den 1970er Jahren in Brasília\, der Hauptstadt Brasiliens. In den späten 1980er Jahren wurde sie eine Pionierin des Butoh-Tanzes in ihrem Land und schrieb 1995 das erste Buch über Butoh auf Portugiesisch (Butoh Dança Veredas D’Alma). Anschließend konzentrierte sich Baiocchi auf die Entwicklung von Taanteatro. Die preisgekrönte darstellende Künstlerin schuf mehr als achtzig Choreografien\, Theaterstücke und Performances und präsentierte ihre Werke in Argentinien\, Belgien\, Frankreich\, Deutschland\, Großbritannien\, Japan\, Mosambik\, Russland und den Vereinigten Staaten. \nSie spielte auch in Spielfilmen und Kurzfilmen mit. Baiocchi arbeitet vorübergehend an der Nationalen Universität Brasília und hat einen MA in Kommunikation und Semiotik von der Päpstlichen Katholischen Universität São Paulo – PUC. \n❦ \nWOLFGANG PANNEK \nDer deutsche Autor\, Regisseur\, Performer\, Produzent und Herausgeber Wolfgang Pannek begann seine Karriere in Bremen. 1992 zog er nach São Paulo\, wo er seitdem gemeinsam mit Maura Baiocchi als Leiter der Taanteatro Companhia arbeitet. \nPannek leitete große Taanteatro-Bühnenproduktionen und schuf und koordinierte internationale Projekte\, darunter Butoh and Research Theatre Festival (1995)\, Artaud 100 Anos (1996)\, The Conquest (1996/96)\, Mazola-Brazil Cultural Exchange (2005) und Hans-Thies Lehmann Brazil Tour (2010)\, Artaud Occupation (2016)\, Deleuze Occupation (2017)\, Antonin Artauds The Theatre and the Plague (2020)\, APOKÁLYPSIS (2021) und Ecoperformance Expedition (2022). \nSeit 2021 ist Pannek Produktionsleiter des International Ecoperformance Filmfestival. Neben Baiocchi war er Co-Autor mehrerer Bücher über Taanteatro. Pannek spielte auch in Serien und Filmen mit\, die von HBO Brazil\, TV Globo und Amazon Prime produziert wurden. Er hat einen MA in Philosophie\, Psychologie und Literatur von der Fernuniversität Hagen\, Deutschland. \n☞ taanteatro.com
URL:https://www.schwerte-stadtmarketing.de/veranstaltung/taanteatro-ecoperformance-workshop-ecoperformance-experience/
LOCATION:Auf der Heide – Kneipe & Kultur\, Schwerte\, NRW\, 58239\, Deutschland
CATEGORIES:Konferenz / Workshop / Seminar
ATTACH;FMTTYPE=image/jpeg:https://www.schwerte-stadtmarketing.de/wp-content/uploads/9853_0563e21d_ee76_4c41_b9e9_3cbfb81dcaf6.jpg
END:VEVENT
END:VCALENDAR